BEGIN:VCALENDAR
VERSION:2.0
PRODID:-//Waldorfschule Emmendingen - ECPv6.15.20//NONSGML v1.0//EN
CALSCALE:GREGORIAN
METHOD:PUBLISH
X-WR-CALNAME:Waldorfschule Emmendingen
X-ORIGINAL-URL:https://waldorfschule-emmendingen.de
X-WR-CALDESC:Veranstaltungen für Waldorfschule Emmendingen
REFRESH-INTERVAL;VALUE=DURATION:PT1H
X-Robots-Tag:noindex
X-PUBLISHED-TTL:PT1H
BEGIN:VTIMEZONE
TZID:Europe/Berlin
BEGIN:DAYLIGHT
TZOFFSETFROM:+0100
TZOFFSETTO:+0200
TZNAME:CEST
DTSTART:20250330T010000
END:DAYLIGHT
BEGIN:STANDARD
TZOFFSETFROM:+0200
TZOFFSETTO:+0100
TZNAME:CET
DTSTART:20251026T010000
END:STANDARD
BEGIN:DAYLIGHT
TZOFFSETFROM:+0100
TZOFFSETTO:+0200
TZNAME:CEST
DTSTART:20260329T010000
END:DAYLIGHT
BEGIN:STANDARD
TZOFFSETFROM:+0200
TZOFFSETTO:+0100
TZNAME:CET
DTSTART:20261025T010000
END:STANDARD
BEGIN:DAYLIGHT
TZOFFSETFROM:+0100
TZOFFSETTO:+0200
TZNAME:CEST
DTSTART:20270328T010000
END:DAYLIGHT
BEGIN:STANDARD
TZOFFSETFROM:+0200
TZOFFSETTO:+0100
TZNAME:CET
DTSTART:20271031T010000
END:STANDARD
END:VTIMEZONE
BEGIN:VEVENT
DTSTART;TZID=Europe/Berlin:20260115T193000
DTEND;TZID=Europe/Berlin:20260115T213000
DTSTAMP:20260426T042018
CREATED:20251220T083600Z
LAST-MODIFIED:20260119T084152Z
UID:10000087-1768505400-1768512600@waldorfschule-emmendingen.de
SUMMARY:Prof. Dr. Maschke „Wir und die anderen: Gemeinsamkeiten entwickeln – Ausgrenzung vermeiden“
DESCRIPTION:Ort: Landhaus
URL:https://waldorfschule-emmendingen.de/veranstaltung/prof-dr-maschke-wir-und-die-anderen-gemeinsamkeiten-entwickeln-ausgrenzung-vermeiden/
CATEGORIES:Veranstaltungen
ATTACH;FMTTYPE=image/jpeg:https://waldorfschule-emmendingen.de/wp-content/uploads/2025/11/Wir-und-die-AnderenVortrag-Maschke-2.jpg
END:VEVENT
END:VCALENDAR